BEGIN:VCALENDAR
VERSION:2.0
PRODID:oeguf.ac.at
X-PUBLISHED-TTL:P1D
BEGIN:VEVENT
UID:69e922cccdce0
DTSTART:20260519T181500
SEQUENCE:0
TRANSP:OPAQUE
DTEND:20260519T200000
LOCATION:Hörsaal 7 des Instituts für Urgeschichte und Historische Archäo
 logie 
SUMMARY:Lost and Found. Zur Wiederentdeckung der ältesten Stadtansicht der
  Stadt Steyr und ihrer Bedeutung für die Mediävistik.
CLASS:PUBLIC
DESCRIPTION:Mehr Infos folgen in Kürze.&nbsp\;
DTSTAMP:20260422T213436Z
END:VEVENT
END:VCALENDAR