BEGIN:VCALENDAR
VERSION:2.0
PRODID:oeguf.ac.at
X-PUBLISHED-TTL:P1D
BEGIN:VEVENT
UID:69e9234376a2e
DTSTART:20260513T153000
SEQUENCE:0
TRANSP:OPAQUE
DTEND:20260513T170000
LOCATION:Römermuseum Wien
SUMMARY:Kuratorenführung Römermuseum Wien
CLASS:PUBLIC
DESCRIPTION:Mehr Infos folgen in Kürze.&nbsp\;
DTSTAMP:20260422T213635Z
END:VEVENT
END:VCALENDAR