BEGIN:VCALENDAR
VERSION:2.0
PRODID:oeguf.ac.at
X-PUBLISHED-TTL:P1D
BEGIN:VEVENT
UID:69e921a88bc1a
DTSTART:20260508T181500
SEQUENCE:0
TRANSP:OPAQUE
DTEND:20260508T200000
LOCATION:Hörsaal 7 des Instituts für Urgeschichte und Historische Archäo
 logie 
SUMMARY:Filmabend mit anschließender Diskussion
CLASS:PUBLIC
DESCRIPTION:Mehr Infos folgen in Kürze.&nbsp\;
DTSTAMP:20260422T212944Z
END:VEVENT
END:VCALENDAR