BEGIN:VCALENDAR
VERSION:2.0
PRODID:oeguf.ac.at
X-PUBLISHED-TTL:P1D
BEGIN:VEVENT
UID:69e92245230d6
DTSTART:20260507T181500
SEQUENCE:0
TRANSP:OPAQUE
DTEND:20260507T200000
LOCATION:Hörsaal 7 des Instituts für Urgeschichte und Historische Archäo
 logie 
SUMMARY:Fe ♥️ O. Herausforderungen in der Konservierung und Restaurieru
 ng von archäologischen Objekten aus Eisen.
CLASS:PUBLIC
DESCRIPTION:Mehr Infos folgen in Kürze.&nbsp\;
DTSTAMP:20260422T213221Z
END:VEVENT
END:VCALENDAR