BEGIN:VCALENDAR
VERSION:2.0
PRODID:oeguf.ac.at
X-PUBLISHED-TTL:P1D
BEGIN:VEVENT
UID:69e6ade161a44
DTSTART:20260421T183000
SEQUENCE:0
TRANSP:OPAQUE
DTEND:20260421T200000
LOCATION:Universität Graz\, Hörsaal 01.14\, 1. Stock
SUMMARY:Notizbücher als Grabungsdokumente.  Die handschriftlichen Aufzeich
 nungen Walter Schmids von den archäologischen Untersuchungen in Flavia So
 lva 1911–1918
CLASS:PUBLIC
DESCRIPTION:Vortrag auf Einladung der ÖGUF und der AG Forschungsgeschichte
 :&nbsp\;In den Jahren 1911 bis 1918\, also kurz vor Ausbruch und während 
 des Ersten Weltkriegs\, fanden umfangreiche archäologische Grabungen in F
 lavia Solva statt. Geleitet wurden sie von dem 1912 zum „Landesarchäolo
 gen“ und Leiter der prähistorischen Sammlung und des Antikenkabinetts a
 m Joanneum in Graz ernannten Walter Schmid\, in dessen Nachlass sich insge
 samt zwölf Notizbücher erhalten haben\, in denen er die Ergebnisse seine
 r Untersuchungen in Flavia Solva sehr ausführlich und detailreich beschri
 eben hat. Da Schmid Grabungsberichte meist nur in kürzeren Artikeln in Fa
 chzeitschriften oder Tageszeitungen veröffentlichte\, jedoch keine umfass
 enderen wissenschaftlichen Publikationen seiner Forschungsergebnisse vorle
 gte\, kommt diesen als eine Art Grabungstagebüchern verfassten Notizhefte
 n erhöhte Bedeutung zu. Denn Schmids im Auftrag des k. k. Österreichisch
 en Archäologischen Instituts zu Beginn mit Hilfe von Sträflingen\, ab 19
 15 dann von serbischen\, russischen und zuletzt auch italienischen Kriegsg
 efangenen durchgeführte großflächige Grabungen stellen bei allen – ge
 wiss auch der damaligen Zeit und den besonderen Umständen geschuldeten 
 – Mängeln bis heute die Grundlage unseres Wissens über den Stadtplan\,
  die Grundrissgestaltung der regelmäßig angelegten Häuserblöcke und de
 n Verlauf der Straßen sowie die Gesamtausdehnung Flavia Solvas dar. Nicht
  zuletzt konnten durch die von Schmid geleiteten umfangreichen Grabungen a
 ber auch die z. T. sehr reiche Ausstattung einzelner Gebäude mit Fußbode
 nheizungen\, Mosaiken und Wandmalereien und der damit verbundene hohe Lebe
 nsstandard zumindest eines Teils der Bewohner der einzigen antiken Stadt a
 uf dem Gebiet der heutigen Steiermark nachgewiesen werden.Zugangsdaten:\nT
 eilnahme über Zoom\nhttps://us06web.zoom.us/j/81578584608?pwd=WdU2u8ZN6G3
 RgIKZDZXrdHlbDbsL7o.1\nTeilnahme über den Internet-Browser:\nhttps://zoom
 .us/join \nMeeting-ID: 815 7858 4608 und Kenncode: 382961\n
DTSTAMP:20260421T005113Z
END:VEVENT
END:VCALENDAR