BEGIN:VCALENDAR
VERSION:2.0
PRODID:oeguf.ac.at
X-PUBLISHED-TTL:P1D
BEGIN:VEVENT
UID:69eb95beda45a
DTSTART:20241128T181500
SEQUENCE:0
TRANSP:OPAQUE
DTEND:20241128T200000
LOCATION:Hörsaal 7 des Instituts für Urgeschichte und Historische Archäo
 logie 
SUMMARY:Auf dem Weg von oder nach Hallstatt? Neue Forschungen zur Rolle der
  hallstattzeitlichen Seeufersiedlung in  Traunkirchen
CLASS:PUBLIC
DESCRIPTION:Vortrag auf Einladung des AK Unterwasserarchäologie:&nbsp\;Die
  prähistorischen Pfahlbauten in Österreich\, besonders bekannt durch die
  UNESCO-\nWelterbestätten am Attersee\, Mondsee und dem Keutschacher See\
 , sind im Vergleich zu unseren Nachbarländern wenig erforscht. Die Region
  um den Traunsee in Oberösterreich zeigt Potenzial für neue Entdeckungen
 . Neue Forschungen der Universität Innsbruck und des Kuratoriums Pfahlbau
 ten konzentrieren sich auf die Erforschung der prähistorischen Besiedlung
  am Traunsee. Bisherige Untersuchungen zeigen eine hallstattzeitliche Sied
 lung in Traunkirchen\, vermutlich verbunden mit dem Salzhandel. Doch die t
 opografischen Gegebenheiten bieten wenig Platz für einen bedeutenden Umsc
 hlagplatz. Untersuchungen mittels geomagnetischer Messungen\, Bohrungen un
 d Sedimentanalysen haben neue interessante Ergebnisse geliefert. Die Lage 
 einer früheren Bucht und intensive Siedlungsreste belegen eine wichtige R
 olle von Traunkirchen. Möglicherweise diente der Ort als Umschlagplatz od
 er Organisationszentrum für den Gütertransport nach Hallstatt. Weitere S
 tudien sind erforderlich\, um diese Hypothesen zu bestätigen und das Vers
 tändnis der prähistorischen Bedeutung des Traunsees zu vertiefen.\n\nZug
 angsdaten\nTeilnahme über Zoom:\nhttps://univienna.zoom.us/j/64424287449?
 pwd=SzFrei9IMlBnWEJydUVGblkrRnJydz09\nTeilnahme über Internetbrowser:&nbs
 p\;https://zoom.us/joinMeeting-ID: 644 2428 7449\nKenncode: 350677\n
DTSTAMP:20260424T180934Z
END:VEVENT
END:VCALENDAR