BEGIN:VCALENDAR
VERSION:2.0
PRODID:oeguf.ac.at
X-PUBLISHED-TTL:P1D
BEGIN:VEVENT
UID:69e733d5c576a
DTSTART:20241105T181500
SEQUENCE:0
TRANSP:OPAQUE
DTEND:20241105T200000
LOCATION:Hörsaal 7 des Instituts für Urgeschichte und Historische Archäo
 logie 
SUMMARY:Wo sich Luchs und Bär Gute Nacht sagen – Nerik in Nordanatolien
CLASS:PUBLIC
DESCRIPTION:Vortrag auf Einladung der ÖGUF:&nbsp\;Die seit 20 Jahren in de
 r nordtürkischen Schwarzmeerprovinz Samsun durchgeführten archäologisch
 en&nbsp\;Forschungen am viertausendjährigen Siedlungshügel Oymaağaç H
 öyük konzentrierten sich bis 2020 auf&nbsp\;die hethitische Kultstadt Ne
 rik mit dem Tempel des Wettergottes und seiner \"Geliebten Quelle\"\, in d
 eren&nbsp\;unterirdischem Wasserbecken unerwartete Holzfunde schlummerten\
 , seit 2020 hingegen auf ein&nbsp\;westlich unterhalb des Tempels gelegene
 s Plateau mit eisenzeitlichen Stein-Holz-Bauten\, in denen&nbsp\;Textilien
  produziert\, Kuppelöfen und zahlreiche\, einfache Feuerstellen benutzt s
 owie Gewaltverbrechen&nbsp\;begangen wurden. Die von Jörg Klinger und Rai
 ner M. Czichon (bis 2014 FU Berlin) initiierte\, von der&nbsp\;Gerda Henke
 l Stiftung und der DFG finanzierten deutsch-türkischen Unternehmung\, wir
 d ab 2018 als&nbsp\;ausschließlich türkisches Projekt unter der Leitung 
 von R.M. Czichon (ab 2014 Universität Uşak) und M.&nbsp\;A. Yılmaz (OM
 Ü Samsun) fortgeführt. Kern des interdisziplinären Projektes bildet ein
 e Open Access&nbsp\;Datenbank\, in der sämtliche Befunde und Funde (Einze
 lfunde\, Proben\, menschliche Skelette und&nbsp\;Tierknochen) gespeichert 
 werden. Seit mehr als 12 Jahren arbeitet das Nerikprojekt eng mit dem Wien
 er&nbsp\;VIAS\, vertreten durch Günther Karl Kunst\, zusammen\, der nicht
  nur mit der prä- und protohistorischen\,&nbsp\;sondern auch der rezenten
  Tierwelt Nordanatoliens vertraut ist.Zugangsdaten:&nbsp\;Teilnahme über 
 Zoomhttps://univienna.zoom.us/j/66668629125?pwd=iKPaKIYGpVlTSRb7p9yxG7PXWn
 sRq2.1Teilnahme über den Internet-Browser:https://zoom.us/join \, Meeting
 -ID: 666 6862 9125 &amp\; Kenncode: 526417
DTSTAMP:20260421T102245Z
END:VEVENT
END:VCALENDAR