BEGIN:VCALENDAR
VERSION:2.0
PRODID:tamaya.at
X-PUBLISHED-TTL:P1D
BEGIN:VEVENT
UID:69e61d7fbc5b9
DTSTART:20250927T093000
SEQUENCE:0
TRANSP:OPAQUE
DTEND:20250927T170000
LOCATION:Tamaya Sport- und Gesundheitszentrum Gaflenz
SUMMARY:BOGENSCHIEßEN - ein Weg in die Stille 
CLASS:PUBLIC
DESCRIPTION:Samstag\,27. September 2025 von 09:30 bis 17:00 Uhr&nbsp\;Was e
 rwartet dich?&nbsp\;Meditatives Bogenschießen: Erlernen der Technik- Schu
 lung&nbsp\; in Intuition und Meditation - unmittelbares Erleben von Selbst
 erfahrung in deinem Handeln mit Pfeil und BogenDer Weg des Bogens - eine S
 chulung in Haltung\, Atmung und BewusstseinMit allen Sinnen WACH SEIN- nur
  durch LOS- LASSEN erreicht der Pfeil sein Ziel - DEIN Ziel!Entwickle eine
  gesunde BALANCE auf emotionaler\, mentaler und körperlicher Ebene!&nbsp\
 ;Anmeldung und Infos:&nbsp\; Edeltraud Lehermayr&nbsp\;edeltraud@meditativ
 es-bogenschiessen.at\; Tel: 0680 2120105www.meditatives-bogenschiessen.atK
 osten: €115\,-- inkl. Leihausrüstung&nbsp\;
DTSTAMP:20260420T143511Z
END:VEVENT
END:VCALENDAR