BEGIN:VCALENDAR
VERSION:2.0
PRODID:tamaya.at
X-PUBLISHED-TTL:P1D
BEGIN:VEVENT
UID:69ecf401ed58c
DTSTART:20240619T180000
SEQUENCE:0
TRANSP:OPAQUE
DTEND:20240619T235500
LOCATION:Tamaya Sport- und Gesundheitszentrum Gaflenz
SUMMARY:SOMMERFEST im TAMAYA Garten 
CLASS:PUBLIC
DESCRIPTION:Am 19.06.2024 findet wieder unser SOMMERFEST für TAMAYA Mitgli
 ederInnen statt!&nbsp\;Genießen wir einen gemeinsamen Abend am Feuer im G
 arten vom TAMAYA!&nbsp\;Uhrzeit: ab 18.00&nbsp\;Auf euer Kommen freut sich
  das Team vom TAMAYA!Bitte um Anmeldung in der Liste an der Bar!&nbsp\;
DTSTAMP:20260425T190401Z
END:VEVENT
END:VCALENDAR