BEGIN:VCALENDAR
VERSION:2.0
PRODID:oeguf.ac.at
X-PUBLISHED-TTL:P1D
BEGIN:VEVENT
UID:69ebca2c63731
DTSTART:20141118T193000
SEQUENCE:0
TRANSP:OPAQUE
DTEND:20141118T213000
LOCATION:Stadtarchäologie\, Festsaal
SUMMARY:VortragKonzertreihe: Ferrum Noricum
CLASS:PUBLIC
DESCRIPTION:Univ.-Prof. Dr. Gerhard Sperl (Montanuniversität Leoben) –
  wissenschaftlicher VortragEnsemble Ars serenaBeate Maria Pomberger – Al
 tJulia Auer – Harfe\, TraversflöteIngrid Wagner-Kraft – GambeBernhard
  Winkler – PerkussionVordernberger Bergreim von 1588 (Siegmund Bainsting
 l) nach der Melodie „Ihr heilgen Gottes Freund“ (Klug’sches Gesangsb
 uch 1533)Norisches Eisen\, das durch eine spezielle Aufbereitung die Härt
 e von Stahl erreichte\, wurde für die Erzeugung von hochwertigen Waffen e
 ingesetzt. Beim römischen Militär sehr beliebt\, fand es seine Verbreitu
 ng bis nach Kleinasien und Nordafrika. Der Magdalensberg in Kärnten gilt 
 als wichtigster Platz zur Weiterverarbeitung des bereits an den Lagerstät
 ten aufbereiteten Eisens.Veranstaltungsort Stadtarchäologie\, Festsaal\,
  Obere Augartenstraße 26-28\, 1020 WienKarten an der Abendkasse zu € 15
 \,–\, Studenten € 10\,–\, Schüler € 5\,–Freier Eintritt für Ku
 lturpassbesitzer „hungeraufkunstundkultur“Reservierungen unter: met.ar
 ch2000(at)gmail.com oder 0681/10716307\n\n
DTSTAMP:20260424T215316Z
END:VEVENT
END:VCALENDAR