BEGIN:VCALENDAR
VERSION:2.0
PRODID:oeguf.ac.at
X-PUBLISHED-TTL:P1D
BEGIN:VEVENT
UID:69e4d7170a13a
DTSTART:20170406T190000
SEQUENCE:0
TRANSP:OPAQUE
DTEND:20170406T190000
LOCATION:HS 7 des Instituts für Urgeschichte und Historische Archäologie
SUMMARY:Hubert Steiner: Gletscherarchäologie in Südtirol
CLASS:PUBLIC
DESCRIPTION:\n\nGletscherarchäologie ist auch oder besonders 25 Jahre nach
  der Auffindung von Ötzi ein Gebot der Stunde. Aufgrund der Klimaerwärmu
 ng und der in Folge abschmelzenden Gletscher und Schneefelder eröffnet si
 ch ein neues Aufgabenfeld für die Archäologie. Optimale Erhaltungs-bedin
 gungen für organische Funde erlauben neue und detaillierte Einblicke in d
 ie Vorgeschichte. Seit einigen Jahren wird durch das Amt für Bodendenkmä
 ler ein kupfer-\, bronze- und römerzeitlicher Fundplatz am Langgrubenjoc
 h (3017 m) im Schnalstal untersucht. Unter dem Fundmaterial sind vor alle
 m Leder- und Fellreste\, ein hölzerner Gürtelhaken der Kupferzeit sowi
 e bronzezeitliche Dachschindeln hervorzuheben. Die starke Frequentierung
  des Alpenhauptkammes seit der Vorgeschichte dokumentiert ein hölzerner 
 Schneereifen aus der späten Jungsteinzeit vom Gurgler Eisjoch (3134 m)
  im Schnalstal. Gletscherarchäologie umfasst auch jüngere Epochen\, im R
 aum Südtirol vor allem die Relikte aus dem Ersten Weltkrieg. Die Kriegsf
 ront verlief zum Teil über das vergletscherte Hochgebirge\, wobei auch di
 e höchsten Gipfel wie der Ortler (3905 m) und die Königspitze (3851 m)
  besetzt und verteidigt wurden.\n\n
DTSTAMP:20260419T152231Z
END:VEVENT
END:VCALENDAR