BEGIN:VCALENDAR
VERSION:2.0
PRODID:oeguf.ac.at
X-PUBLISHED-TTL:P1D
BEGIN:VEVENT
UID:69e4da8ca14e1
DTSTART:20180529T190000
SEQUENCE:0
TRANSP:OPAQUE
DTEND:20180529T210000
LOCATION:HS 7 des Instituts für Urgeschichte und Historische Archäologie 
 und digital
SUMMARY:Lukas Schärer: \"Pfahlbauer am Thunersee. Oder wie die Suche nach 
 einer Sonnenbrille mit der Entdeckung einer bronzezeitlichen Seeufersiedlu
 ng endete\" (Vortrag AK Unterwasserarchäologie)
CLASS:PUBLIC
DESCRIPTION:\n\nUntersuchungen des Archäologischen Dienstes des Kantons Be
 rn führten in den letzten Jahren zur Neuentdeckung zahlreicher prähisto
 rischer Siedlungsspuren am Thunersee im Berner Oberland. Sie werfen ein 
 neues Licht auf diese archäologisch bedeutende Region zwischen Alpen und 
 Mittelland.\n\n
DTSTAMP:20260419T153716Z
END:VEVENT
END:VCALENDAR