BEGIN:VCALENDAR
VERSION:2.0
PRODID:oeguf.ac.at
X-PUBLISHED-TTL:P1D
BEGIN:VEVENT
UID:69e734fb18f63
DTSTART:20181121T143000
SEQUENCE:0
TRANSP:OPAQUE
DTEND:20181121T163000
LOCATION:HS 7 des Instituts für Urgeschichte und Historische Archäologie 
 und digital
SUMMARY:Tag der offenen ÖGUF
CLASS:PUBLIC
DESCRIPTION:Die Österreichische Gesellschaft für Ur- und Frühgeschichte 
 lädt ein zumTag der offenen ÖGUF Vorstellung der studentischen Arbeitsk
 reise – Teilnahme und MitarbeitAK PaläolithikumAK Neolithikum & Bronzez
 eitAK EisenzeitAK Römische KaiserzeitAK MittelalterAK Archäologie und Ö
 ffentlichkeitAK Experimentelle ArchäologieAK Forensische ArchäologieAK M
 usikarchäologieAK UnterwasserarchäologieMöglichkeit zur Kontaktaufnahm
 e mit den AK-SprecherInnen!Vorstellung der Österreichischen Gesellschaft
  für Ur- und FrühgeschichteMitgliedschaftArchäologie ÖsterreichsVortr
 ägeTagungenBibliothekBücherstandVerbilligte Publikationen der ÖGUFBuffe
 tKleines Buffet mit Getränken und Snacks\n\n
DTSTAMP:20260421T102739Z
END:VEVENT
END:VCALENDAR