BEGIN:VCALENDAR
VERSION:2.0
PRODID:oeguf.ac.at
X-PUBLISHED-TTL:P1D
BEGIN:VEVENT
UID:69ebaed66bf78
DTSTART:20260507T181500
SEQUENCE:0
TRANSP:OPAQUE
DTEND:20260507T200000
LOCATION:Hörsaal 7 des Instituts für Urgeschichte und Historische Archäo
 logie 
SUMMARY:Fe ♥️ O. Herausforderungen in der Konservierung und Restaurieru
 ng von archäologischen Objekten aus Eisen.
CLASS:PUBLIC
DESCRIPTION:Mehr Infos folgen in Kürze.&nbsp\;
DTSTAMP:20260424T195638Z
END:VEVENT
BEGIN:VEVENT
UID:69ebaed66c003
DTSTART:20260519T181500
SEQUENCE:0
TRANSP:OPAQUE
DTEND:20260519T200000
LOCATION:Hörsaal 7 des Instituts für Urgeschichte und Historische Archäo
 logie 
SUMMARY:Lost and Found. Zur Wiederentdeckung der ältesten Stadtansicht der
  Stadt Steyr und ihrer Bedeutung für die Mediävistik.
CLASS:PUBLIC
DESCRIPTION:Mehr Infos folgen in Kürze.&nbsp\;
DTSTAMP:20260424T195638Z
END:VEVENT
BEGIN:VEVENT
UID:69ebaed66c060
DTSTART:20260526T181500
SEQUENCE:0
TRANSP:OPAQUE
DTEND:20260526T200000
LOCATION:Hörsaal 7 des Instituts für Urgeschichte und Historische Archäo
 logie 
SUMMARY:Troia in der Bronzezeit: Eine chronologisch-kulturhistorische Stand
 ortbestimmung
CLASS:PUBLIC
DESCRIPTION:Mehr Infos folgen in Kürze.&nbsp\;
DTSTAMP:20260424T195638Z
END:VEVENT
BEGIN:VEVENT
UID:69ebaed66c0b5
DTSTART:20260608T181500
SEQUENCE:0
TRANSP:OPAQUE
DTEND:20260608T200000
LOCATION:Hörsaal 7 des Instituts für Urgeschichte und Historische Archäo
 logie 
SUMMARY:Vortrag auf Einladung des AK Osteoarchäologie und Evolutionäre An
 thropologie
CLASS:PUBLIC
DESCRIPTION:Mehr Infos folgen in Kürze.&nbsp\;
DTSTAMP:20260424T195638Z
END:VEVENT
BEGIN:VEVENT
UID:69ebaed66c107
DTSTART:20260611T181500
SEQUENCE:0
TRANSP:OPAQUE
DTEND:20260611T200000
LOCATION:Hörsaal 7 des Instituts für Urgeschichte und Historische Archäo
 logie 
SUMMARY:Submerged Landscapes Along the Southern Baltic Sea Coast: Evidence\
 , Methods and Interpretation
CLASS:PUBLIC
DESCRIPTION:Mehr Infos folgen in Kürze.
DTSTAMP:20260424T195638Z
END:VEVENT
END:VCALENDAR